BEGIN:VCALENDAR
VERSION:2.0
PRODID:-//Town of Copake - ECPv6.15.17.1//NONSGML v1.0//EN
CALSCALE:GREGORIAN
METHOD:PUBLISH
X-WR-CALNAME:Town of Copake
X-ORIGINAL-URL:https://townofcopakeny.gov
X-WR-CALDESC:Events for Town of Copake
REFRESH-INTERVAL;VALUE=DURATION:PT1H
X-Robots-Tag:noindex
X-PUBLISHED-TTL:PT1H
BEGIN:VTIMEZONE
TZID:America/New_York
BEGIN:DAYLIGHT
TZOFFSETFROM:-0500
TZOFFSETTO:-0400
TZNAME:EDT
DTSTART:20210314T070000
END:DAYLIGHT
BEGIN:STANDARD
TZOFFSETFROM:-0400
TZOFFSETTO:-0500
TZNAME:EST
DTSTART:20211107T060000
END:STANDARD
BEGIN:DAYLIGHT
TZOFFSETFROM:-0500
TZOFFSETTO:-0400
TZNAME:EDT
DTSTART:20220313T070000
END:DAYLIGHT
BEGIN:STANDARD
TZOFFSETFROM:-0400
TZOFFSETTO:-0500
TZNAME:EST
DTSTART:20221106T060000
END:STANDARD
BEGIN:DAYLIGHT
TZOFFSETFROM:-0500
TZOFFSETTO:-0400
TZNAME:EDT
DTSTART:20230312T070000
END:DAYLIGHT
BEGIN:STANDARD
TZOFFSETFROM:-0400
TZOFFSETTO:-0500
TZNAME:EST
DTSTART:20231105T060000
END:STANDARD
END:VTIMEZONE
BEGIN:VEVENT
DTSTART;TZID=America/New_York:20220409T100000
DTEND;TZID=America/New_York:20220409T100000
DTSTAMP:20260422T192205
CREATED:20221004T221454Z
LAST-MODIFIED:20221004T221454Z
UID:6586-1649498400-1649498400@townofcopakeny.gov
SUMMARY:Public Information Meeting County Route 7A Reconstruction and Preservation Saturday\, April 9\, 2022 10:00am
DESCRIPTION:WHERE: Google Meet \nPublic Information Meeting Saturday
URL:https://townofcopakeny.gov/event/public-information-meeting-county-route-7a-reconstruction-and-preservation-saturday-april-9-2022-1000am/
CATEGORIES:Community Calendar
END:VEVENT
END:VCALENDAR