BEGIN:VCALENDAR
VERSION:2.0
PRODID:-//Town of Copake - ECPv6.15.17.1//NONSGML v1.0//EN
CALSCALE:GREGORIAN
METHOD:PUBLISH
X-WR-CALNAME:Town of Copake
X-ORIGINAL-URL:https://townofcopakeny.gov
X-WR-CALDESC:Events for Town of Copake
REFRESH-INTERVAL;VALUE=DURATION:PT1H
X-Robots-Tag:noindex
X-PUBLISHED-TTL:PT1H
BEGIN:VTIMEZONE
TZID:America/New_York
BEGIN:DAYLIGHT
TZOFFSETFROM:-0500
TZOFFSETTO:-0400
TZNAME:EDT
DTSTART:20250309T070000
END:DAYLIGHT
BEGIN:STANDARD
TZOFFSETFROM:-0400
TZOFFSETTO:-0500
TZNAME:EST
DTSTART:20251102T060000
END:STANDARD
BEGIN:DAYLIGHT
TZOFFSETFROM:-0500
TZOFFSETTO:-0400
TZNAME:EDT
DTSTART:20260308T070000
END:DAYLIGHT
BEGIN:STANDARD
TZOFFSETFROM:-0400
TZOFFSETTO:-0500
TZNAME:EST
DTSTART:20261101T060000
END:STANDARD
BEGIN:DAYLIGHT
TZOFFSETFROM:-0500
TZOFFSETTO:-0400
TZNAME:EDT
DTSTART:20270314T070000
END:DAYLIGHT
BEGIN:STANDARD
TZOFFSETFROM:-0400
TZOFFSETTO:-0500
TZNAME:EST
DTSTART:20271107T060000
END:STANDARD
END:VTIMEZONE
BEGIN:VEVENT
DTSTART;TZID=America/New_York:20260415T163000
DTEND;TZID=America/New_York:20260415T183000
DTSTAMP:20260421T062240
CREATED:20260414T192641Z
LAST-MODIFIED:20260415T122658Z
UID:16999-1776270600-1776277800@townofcopakeny.gov
SUMMARY:Rock Around the Clock Meeting
DESCRIPTION:Rock Around the Clock MeetingWednesdayApril 15\, 20264:30 pmGoogleMeet
URL:https://townofcopakeny.gov/event/rock-around-the-clock-meeting-3/
CATEGORIES:Town Calendar
END:VEVENT
END:VCALENDAR