BEGIN:VCALENDAR
VERSION:2.0
PRODID:-//Town of Copake - ECPv6.15.17.1//NONSGML v1.0//EN
CALSCALE:GREGORIAN
METHOD:PUBLISH
X-WR-CALNAME:Town of Copake
X-ORIGINAL-URL:https://townofcopakeny.gov
X-WR-CALDESC:Events for Town of Copake
REFRESH-INTERVAL;VALUE=DURATION:PT1H
X-Robots-Tag:noindex
X-PUBLISHED-TTL:PT1H
BEGIN:VTIMEZONE
TZID:America/New_York
BEGIN:DAYLIGHT
TZOFFSETFROM:-0500
TZOFFSETTO:-0400
TZNAME:EDT
DTSTART:20210314T070000
END:DAYLIGHT
BEGIN:STANDARD
TZOFFSETFROM:-0400
TZOFFSETTO:-0500
TZNAME:EST
DTSTART:20211107T060000
END:STANDARD
BEGIN:DAYLIGHT
TZOFFSETFROM:-0500
TZOFFSETTO:-0400
TZNAME:EDT
DTSTART:20220313T070000
END:DAYLIGHT
BEGIN:STANDARD
TZOFFSETFROM:-0400
TZOFFSETTO:-0500
TZNAME:EST
DTSTART:20221106T060000
END:STANDARD
BEGIN:DAYLIGHT
TZOFFSETFROM:-0500
TZOFFSETTO:-0400
TZNAME:EDT
DTSTART:20230312T070000
END:DAYLIGHT
BEGIN:STANDARD
TZOFFSETFROM:-0400
TZOFFSETTO:-0500
TZNAME:EST
DTSTART:20231105T060000
END:STANDARD
END:VTIMEZONE
BEGIN:VEVENT
DTSTART;TZID=America/New_York:20220310T185000
DTEND;TZID=America/New_York:20220310T185000
DTSTAMP:20260422T204914
CREATED:20221004T203602Z
LAST-MODIFIED:20221004T203602Z
UID:10000113-1646938200-1646938200@townofcopakeny.gov
SUMMARY:Public Hearing Introductory Local Law No. 1 of 2022 Thursday\, March 10\, 2022 6:50pm
DESCRIPTION:WHERE: Google Meet \nTown-Board-Meeting-Thursday-March-10-2022-7pm
URL:https://townofcopakeny.gov/event/public-hearing-introductory-local-law-no-1-of-2022-thursday-march-10-2022-650pm/
CATEGORIES:Town Board
END:VEVENT
BEGIN:VEVENT
DTSTART;TZID=America/New_York:20220310T190000
DTEND;TZID=America/New_York:20220310T190000
DTSTAMP:20260422T204914
CREATED:20221004T203704Z
LAST-MODIFIED:20221004T203704Z
UID:10000114-1646938800-1646938800@townofcopakeny.gov
SUMMARY:Town Board Meeting Thursday\, March 10\, 2022 7:00pm
DESCRIPTION:WHERE: Google Meet \nTown Board Meeting Thursday March 10 2022 7pm
URL:https://townofcopakeny.gov/event/town-board-meeting-thursday-march-10-2022-700pm/
CATEGORIES:Town Board
END:VEVENT
END:VCALENDAR