BEGIN:VCALENDAR
VERSION:2.0
PRODID:-//Town of Copake - ECPv6.15.17.1//NONSGML v1.0//EN
CALSCALE:GREGORIAN
METHOD:PUBLISH
X-WR-CALNAME:Town of Copake
X-ORIGINAL-URL:https://townofcopakeny.gov
X-WR-CALDESC:Events for Town of Copake
REFRESH-INTERVAL;VALUE=DURATION:PT1H
X-Robots-Tag:noindex
X-PUBLISHED-TTL:PT1H
BEGIN:VTIMEZONE
TZID:America/New_York
BEGIN:DAYLIGHT
TZOFFSETFROM:-0500
TZOFFSETTO:-0400
TZNAME:EDT
DTSTART:20210314T070000
END:DAYLIGHT
BEGIN:STANDARD
TZOFFSETFROM:-0400
TZOFFSETTO:-0500
TZNAME:EST
DTSTART:20211107T060000
END:STANDARD
BEGIN:DAYLIGHT
TZOFFSETFROM:-0500
TZOFFSETTO:-0400
TZNAME:EDT
DTSTART:20220313T070000
END:DAYLIGHT
BEGIN:STANDARD
TZOFFSETFROM:-0400
TZOFFSETTO:-0500
TZNAME:EST
DTSTART:20221106T060000
END:STANDARD
BEGIN:DAYLIGHT
TZOFFSETFROM:-0500
TZOFFSETTO:-0400
TZNAME:EDT
DTSTART:20230312T070000
END:DAYLIGHT
BEGIN:STANDARD
TZOFFSETFROM:-0400
TZOFFSETTO:-0500
TZNAME:EST
DTSTART:20231105T060000
END:STANDARD
BEGIN:DAYLIGHT
TZOFFSETFROM:-0500
TZOFFSETTO:-0400
TZNAME:EDT
DTSTART:20240310T070000
END:DAYLIGHT
BEGIN:STANDARD
TZOFFSETFROM:-0400
TZOFFSETTO:-0500
TZNAME:EST
DTSTART:20241103T060000
END:STANDARD
END:VTIMEZONE
BEGIN:VEVENT
DTSTART;TZID=America/New_York:20230112T190000
DTEND;TZID=America/New_York:20230112T190000
DTSTAMP:20260422T105041
CREATED:20221212T183906Z
LAST-MODIFIED:20221212T183906Z
UID:10000027-1673550000-1673550000@townofcopakeny.gov
SUMMARY:Town Board Meeting Thursday\, January 12\, 2023 7:00pm
DESCRIPTION:Town Board Meeting 011223
URL:https://townofcopakeny.gov/event/town-board-meeting-thursday-january-12-2023-700pm/
LOCATION:Town Hall\, 230 Mountain View Road\, Copake\, NY\, 12516\, United States
CATEGORIES:Town Board
END:VEVENT
BEGIN:VEVENT
DTSTART;TZID=America/New_York:20230103T163000
DTEND;TZID=America/New_York:20230103T163000
DTSTAMP:20260422T105041
CREATED:20221212T183454Z
LAST-MODIFIED:20221212T183454Z
UID:10000026-1672763400-1672763400@townofcopakeny.gov
SUMMARY:2023 Organizational Meeting Tuesday\, January 3\, 2023 4:30pm
DESCRIPTION:Town Hall/Google Meet \n2023 Organizational Meeting
URL:https://townofcopakeny.gov/event/2023-organizational-meeting-tuesday-january-3-2023-430pm/
LOCATION:Town Hall\, 230 Mountain View Road\, Copake\, NY\, 12516\, United States
CATEGORIES:Town Board,Town Meetings
END:VEVENT
BEGIN:VEVENT
DTSTART;TZID=America/New_York:20221215T190000
DTEND;TZID=America/New_York:20221215T190000
DTSTAMP:20260422T105041
CREATED:20221206T203142Z
LAST-MODIFIED:20221212T190529Z
UID:10000023-1671130800-1671130800@townofcopakeny.gov
SUMMARY:Canceled ZBA Meeting Thursday\, December 15\, 2022 7:00pm
DESCRIPTION:
URL:https://townofcopakeny.gov/event/zba-meeting-thursday-december-15-2022-700pm/
LOCATION:Town Hall\, 230 Mountain View Road\, Copake\, NY\, 12516\, United States
CATEGORIES:Zoning Board
END:VEVENT
BEGIN:VEVENT
DTSTART;TZID=America/New_York:20221123T190000
DTEND;TZID=America/New_York:20221123T190000
DTSTAMP:20260422T105041
CREATED:20221004T220548Z
LAST-MODIFIED:20221004T220548Z
UID:10000019-1669230000-1669230000@townofcopakeny.gov
SUMMARY:ZBA Meeting Wednesday\, November 23\, 2022 7:00pm
DESCRIPTION:
URL:https://townofcopakeny.gov/event/zba-meeting-wednesday-november-23-2022-700pm/
LOCATION:Town Hall\, 230 Mountain View Road\, Copake\, NY\, 12516\, United States
CATEGORIES:Zoning Board
END:VEVENT
BEGIN:VEVENT
DTSTART;TZID=America/New_York:20221027T190000
DTEND;TZID=America/New_York:20221027T190000
DTSTAMP:20260422T105041
CREATED:20221004T220517Z
LAST-MODIFIED:20221004T220517Z
UID:10000018-1666897200-1666897200@townofcopakeny.gov
SUMMARY:ZBA Meeting Thursday\, October 27\, 2022 7:00pm
DESCRIPTION:
URL:https://townofcopakeny.gov/event/zba-meeting-thursday-october-27-2022-700pm/
LOCATION:Town Hall\, 230 Mountain View Road\, Copake\, NY\, 12516\, United States
CATEGORIES:Zoning Board
END:VEVENT
BEGIN:VEVENT
DTSTART;TZID=America/New_York:20221017T100000
DTEND;TZID=America/New_York:20221017T100000
DTSTAMP:20260422T105041
CREATED:20221004T220447Z
LAST-MODIFIED:20221004T220447Z
UID:10000017-1666000800-1666000800@townofcopakeny.gov
SUMMARY:Historic Preservation Committee Meeting Monday\, October 17\, 2022 10:00am
DESCRIPTION:
URL:https://townofcopakeny.gov/event/historic-preservation-committee-meeting-monday-october-17-2022-1000am/
LOCATION:Town Hall\, 230 Mountain View Road\, Copake\, NY\, 12516\, United States
CATEGORIES:Town Meetings
END:VEVENT
BEGIN:VEVENT
DTSTART;TZID=America/New_York:20221013T190000
DTEND;TZID=America/New_York:20221013T190000
DTSTAMP:20260422T105041
CREATED:20221004T220419Z
LAST-MODIFIED:20221004T220419Z
UID:10000016-1665687600-1665687600@townofcopakeny.gov
SUMMARY:Town Board Meeting Thursday\, October 13\, 2022 7:00pm
DESCRIPTION:OWL Public Hearing-Town Board Meeting 101322
URL:https://townofcopakeny.gov/event/town-board-meeting-thursday-october-13-2022-700pm/
LOCATION:Town Hall\, 230 Mountain View Road\, Copake\, NY\, 12516\, United States
CATEGORIES:Town Board
END:VEVENT
BEGIN:VEVENT
DTSTART;TZID=America/New_York:20221013T184500
DTEND;TZID=America/New_York:20221013T184500
DTSTAMP:20260422T105041
CREATED:20221004T220338Z
LAST-MODIFIED:20221004T220338Z
UID:10000015-1665686700-1665686700@townofcopakeny.gov
SUMMARY:Public Hearing/Town Board Meeting Thursday\, October 13\, 2022 6:45pm
DESCRIPTION:OWL Public Hearing-Town Board Meeting 101322
URL:https://townofcopakeny.gov/event/public-hearing-town-board-meeting-thursday-october-13-2022-645pm/
LOCATION:Town Hall\, 230 Mountain View Road\, Copake\, NY\, 12516\, United States
CATEGORIES:Town Board
END:VEVENT
BEGIN:VEVENT
DTSTART;TZID=America/New_York:20221013T183000
DTEND;TZID=America/New_York:20221013T183000
DTSTAMP:20260422T105041
CREATED:20221004T220243Z
LAST-MODIFIED:20221004T220243Z
UID:10000014-1665685800-1665685800@townofcopakeny.gov
SUMMARY:Public Hearing 2023 Preliminary Budget Thursday\, October 13\, 2022 6:30pm
DESCRIPTION:OWL Public Hearing-Town Board Meeting 101322
URL:https://townofcopakeny.gov/event/public-hearing-2023-preliminary-budget-thursday-october-13-2022-630pm/
LOCATION:Town Hall\, 230 Mountain View Road\, Copake\, NY\, 12516\, United States
CATEGORIES:Town Board
END:VEVENT
BEGIN:VEVENT
DTSTART;TZID=America/New_York:20220922T190000
DTEND;TZID=America/New_York:20220922T190000
DTSTAMP:20260422T105041
CREATED:20221004T220015Z
LAST-MODIFIED:20221004T220015Z
UID:10000012-1663873200-1663873200@townofcopakeny.gov
SUMMARY:ZBA Meeting Thursday\, September 22\, 2022 7:00pm
DESCRIPTION:
URL:https://townofcopakeny.gov/event/zba-meeting-thursday-september-22-2022-700pm/
LOCATION:Town Hall\, 230 Mountain View Road\, Copake\, NY\, 12516\, United States
CATEGORIES:Zoning Board
END:VEVENT
BEGIN:VEVENT
DTSTART;TZID=America/New_York:20220920T160000
DTEND;TZID=America/New_York:20220920T160000
DTSTAMP:20260422T105041
CREATED:20221004T215938Z
LAST-MODIFIED:20221004T215938Z
UID:10000011-1663689600-1663689600@townofcopakeny.gov
SUMMARY:Short Term Rental Working Group Meeting Tuesday\, September 20\, 2022 4:00
DESCRIPTION:WHERE: Town Hall/OWL \nShort Term Rental Working Group Owl 092022
URL:https://townofcopakeny.gov/event/short-term-rental-working-group-meeting-tuesday-september-20-2022-400/
LOCATION:Town Hall\, 230 Mountain View Road\, Copake\, NY\, 12516\, United States
CATEGORIES:Town Meetings
END:VEVENT
BEGIN:VEVENT
DTSTART;TZID=America/New_York:20220920T100000
DTEND;TZID=America/New_York:20220920T100000
DTSTAMP:20260422T105041
CREATED:20221004T215821Z
LAST-MODIFIED:20221004T215821Z
UID:10000155-1663668000-1663668000@townofcopakeny.gov
SUMMARY:Special Meeting Town Board Tuesday\, September 20\, 2022 10:00am
DESCRIPTION:WHERE: Town Hall/OWL \nSpecial Meeting Town Board 092022
URL:https://townofcopakeny.gov/event/special-meeting-town-board-tuesday-september-20-2022-1000am/
LOCATION:Town Hall\, 230 Mountain View Road\, Copake\, NY\, 12516\, United States
CATEGORIES:Town Meetings
END:VEVENT
BEGIN:VEVENT
DTSTART;TZID=America/New_York:20220920T100000
DTEND;TZID=America/New_York:20220920T100000
DTSTAMP:20260422T105041
CREATED:20221004T215711Z
LAST-MODIFIED:20221004T215711Z
UID:10000153-1663668000-1663668000@townofcopakeny.gov
SUMMARY:Historic Preservation Committee Meeting Tuesday\, September 20\, 2022 10:00am
DESCRIPTION:
URL:https://townofcopakeny.gov/event/historic-preservation-committee-meeting-tuesday-september-20-2022-1000am/
LOCATION:Town Hall\, 230 Mountain View Road\, Copake\, NY\, 12516\, United States
CATEGORIES:Conservation Advisory Committee
END:VEVENT
BEGIN:VEVENT
DTSTART;TZID=America/New_York:20220910T090000
DTEND;TZID=America/New_York:20220910T110000
DTSTAMP:20260422T105041
CREATED:20221004T215444Z
LAST-MODIFIED:20221004T215444Z
UID:10000151-1662800400-1662807600@townofcopakeny.gov
SUMMARY:NY Forward Public Workshop Saturday\, September 10\, 2022 9:00am-11:am
DESCRIPTION:WHERE: Town Hall/OWL \nNY Forward Public Workshop
URL:https://townofcopakeny.gov/event/ny-forward-public-workshop-saturday-september-10-2022-900am-11am/
LOCATION:Town Hall\, 230 Mountain View Road\, Copake\, NY\, 12516\, United States
CATEGORIES:Town Meetings
END:VEVENT
BEGIN:VEVENT
DTSTART;TZID=America/New_York:20220908T190000
DTEND;TZID=America/New_York:20220908T190000
DTSTAMP:20260422T105041
CREATED:20221004T215334Z
LAST-MODIFIED:20221004T215334Z
UID:10000150-1662663600-1662663600@townofcopakeny.gov
SUMMARY:Town Board Meeting Thursday\, September 8\, 2022 7:00pm
DESCRIPTION:WHERE: Town Hall/OWL \nTown Board Meeting 090822
URL:https://townofcopakeny.gov/event/town-board-meeting-thursday-september-8-2022-700pm/
LOCATION:Town Hall\, 230 Mountain View Road\, Copake\, NY\, 12516\, United States
CATEGORIES:Town Board
END:VEVENT
BEGIN:VEVENT
DTSTART;TZID=America/New_York:20220901T190000
DTEND;TZID=America/New_York:20220901T190000
DTSTAMP:20260422T105041
CREATED:20221004T215122Z
LAST-MODIFIED:20221004T215122Z
UID:10000148-1662058800-1662058800@townofcopakeny.gov
SUMMARY:Public Hearing Planning Board/Monthly Meeting Thursday\, September 1\, 2022 7:00pm
DESCRIPTION:
URL:https://townofcopakeny.gov/event/public-hearing-planning-board-monthly-meeting-thursday-september-1-2022-700pm/
LOCATION:Town Hall\, 230 Mountain View Road\, Copake\, NY\, 12516\, United States
CATEGORIES:Planning Board
END:VEVENT
BEGIN:VEVENT
DTSTART;TZID=America/New_York:20220827T090000
DTEND;TZID=America/New_York:20220827T090000
DTSTAMP:20260422T105041
CREATED:20221004T222453Z
LAST-MODIFIED:20221004T222453Z
UID:10001255-1661590800-1661590800@townofcopakeny.gov
SUMMARY:Roe Jan Ramble Meeting Saturday\, August 27\, 2022 9:00am
DESCRIPTION:
URL:https://townofcopakeny.gov/event/roe-jan-ramble-meeting-saturday-august-27-2022-900am/
LOCATION:Town Hall\, 230 Mountain View Road\, Copake\, NY\, 12516\, United States
CATEGORIES:Community Calendar
END:VEVENT
BEGIN:VEVENT
DTSTART;TZID=America/New_York:20220825T190000
DTEND;TZID=America/New_York:20220825T190000
DTSTAMP:20260422T105041
CREATED:20221004T215031Z
LAST-MODIFIED:20221004T215031Z
UID:10000147-1661454000-1661454000@townofcopakeny.gov
SUMMARY:ZBA Meeting Thursday\, August 25\, 2022 7:00pm
DESCRIPTION:
URL:https://townofcopakeny.gov/event/zba-meeting-thursday-august-25-2022-700pm/
LOCATION:Town Hall\, 230 Mountain View Road\, Copake\, NY\, 12516\, United States
CATEGORIES:Zoning Board
END:VEVENT
BEGIN:VEVENT
DTSTART;TZID=America/New_York:20220822T100000
DTEND;TZID=America/New_York:20220822T100000
DTSTAMP:20260422T105041
CREATED:20221004T214941Z
LAST-MODIFIED:20221004T214941Z
UID:10000146-1661162400-1661162400@townofcopakeny.gov
SUMMARY:HPC Meeting Monday\, August 22\, 2022 10:00am
DESCRIPTION:
URL:https://townofcopakeny.gov/event/hpc-meeting-monday-august-22-2022-1000am/
LOCATION:Town Hall\, 230 Mountain View Road\, Copake\, NY\, 12516\, United States
CATEGORIES:Conservation Advisory Committee
END:VEVENT
BEGIN:VEVENT
DTSTART;TZID=America/New_York:20220813T090000
DTEND;TZID=America/New_York:20220813T090000
DTSTAMP:20260422T105041
CREATED:20221004T213657Z
LAST-MODIFIED:20221004T213759Z
UID:10000010-1660381200-1660381200@townofcopakeny.gov
SUMMARY:Town Board Meeting Saturday\, August 13\, 2022 9am
DESCRIPTION:Public HearingTown Board Meeting 081322
URL:https://townofcopakeny.gov/event/town-board-meeting-saturday-august-13-2022-9am/
LOCATION:Town Hall\, 230 Mountain View Road\, Copake\, NY\, 12516\, United States
CATEGORIES:Town Meetings
END:VEVENT
BEGIN:VEVENT
DTSTART;TZID=America/New_York:20220813T084500
DTEND;TZID=America/New_York:20220813T084500
DTSTAMP:20260422T105041
CREATED:20221004T213431Z
LAST-MODIFIED:20221004T213431Z
UID:10000009-1660380300-1660380300@townofcopakeny.gov
SUMMARY:Public Hearing Town Board Saturday\, August 13\, 2022 8:45
DESCRIPTION:Public HearingTown Board Meeting 081322 9a
URL:https://townofcopakeny.gov/event/public-hearing-town-board-saturday-august-13-2022-845/
LOCATION:Town Hall\, 230 Mountain View Road\, Copake\, NY\, 12516\, United States
CATEGORIES:Town Board
END:VEVENT
BEGIN:VEVENT
DTSTART;TZID=America/New_York:20220809T160000
DTEND;TZID=America/New_York:20220809T160000
DTSTAMP:20260422T105041
CREATED:20221004T213042Z
LAST-MODIFIED:20221004T213042Z
UID:10000007-1660060800-1660060800@townofcopakeny.gov
SUMMARY:Short Term Rental Working Group Meeting Tuesday\, August 9\, 2022 4:00pm
DESCRIPTION:WHERE: Town Hall/OWL \nShort Term Rental Working Group Tuesday
URL:https://townofcopakeny.gov/event/short-term-rental-working-group-meeting-tuesday-august-9-2022-400pm/
LOCATION:Town Hall\, 230 Mountain View Road\, Copake\, NY\, 12516\, United States
CATEGORIES:Town Meetings
END:VEVENT
BEGIN:VEVENT
DTSTART;TZID=America/New_York:20220802T160000
DTEND;TZID=America/New_York:20220802T160000
DTSTAMP:20260422T105041
CREATED:20221004T212905Z
LAST-MODIFIED:20221004T212905Z
UID:10000006-1659456000-1659456000@townofcopakeny.gov
SUMMARY:Special Meeting Town Board Tuesday\, August 2\, 2022 4:00pm
DESCRIPTION:WHERE: Town Hall/OWL \nSpecial Town Board Meeting 080222
URL:https://townofcopakeny.gov/event/special-meeting-town-board-tuesday-august-2-2022-400pm/
LOCATION:Town Hall\, 230 Mountain View Road\, Copake\, NY\, 12516\, United States
CATEGORIES:Town Meetings
END:VEVENT
BEGIN:VEVENT
DTSTART;TZID=America/New_York:20220730T090000
DTEND;TZID=America/New_York:20220730T090000
DTSTAMP:20260422T105041
CREATED:20221004T222420Z
LAST-MODIFIED:20221004T222420Z
UID:10001254-1659171600-1659171600@townofcopakeny.gov
SUMMARY:Roe Jan Ramble Meeting Saturday\, July 30\, 2022 9:00am
DESCRIPTION:
URL:https://townofcopakeny.gov/event/roe-jan-ramble-meeting-saturday-july-30-2022-900am/
LOCATION:Town Hall\, 230 Mountain View Road\, Copake\, NY\, 12516\, United States
CATEGORIES:Community Calendar
END:VEVENT
BEGIN:VEVENT
DTSTART;TZID=America/New_York:20220728T190000
DTEND;TZID=America/New_York:20220728T190000
DTSTAMP:20260422T105041
CREATED:20221004T212706Z
LAST-MODIFIED:20221004T212706Z
UID:10000005-1659034800-1659034800@townofcopakeny.gov
SUMMARY:ZBA Meeting Thursday\, July 28\, 2022 7:00pm
DESCRIPTION:
URL:https://townofcopakeny.gov/event/zba-meeting-thursday-july-28-2022-700pm/
LOCATION:Town Hall\, 230 Mountain View Road\, Copake\, NY\, 12516\, United States
CATEGORIES:Zoning Board
END:VEVENT
BEGIN:VEVENT
DTSTART;TZID=America/New_York:20220720T170000
DTEND;TZID=America/New_York:20220720T170000
DTSTAMP:20260422T105041
CREATED:20221004T212621Z
LAST-MODIFIED:20221004T212621Z
UID:10000004-1658336400-1658336400@townofcopakeny.gov
SUMMARY:RAC Meeting Wednesday\, July 20\, 2022 5:00pm
DESCRIPTION:
URL:https://townofcopakeny.gov/event/rac-meeting-wednesday-july-20-2022-500pm/
LOCATION:Town Hall\, 230 Mountain View Road\, Copake\, NY\, 12516\, United States
CATEGORIES:Town Meetings
END:VEVENT
BEGIN:VEVENT
DTSTART;TZID=America/New_York:20220718T100000
DTEND;TZID=America/New_York:20220718T100000
DTSTAMP:20260422T105041
CREATED:20221004T212543Z
LAST-MODIFIED:20221004T212543Z
UID:10000003-1658138400-1658138400@townofcopakeny.gov
SUMMARY:HPC Meeting Monday\, July 18\, 2022 10:00am
DESCRIPTION:
URL:https://townofcopakeny.gov/event/hpc-meeting-monday-july-18-2022-1000am/
LOCATION:Town Hall\, 230 Mountain View Road\, Copake\, NY\, 12516\, United States
CATEGORIES:Town Meetings
END:VEVENT
BEGIN:VEVENT
DTSTART;TZID=America/New_York:20220707T190000
DTEND;TZID=America/New_York:20220707T190000
DTSTAMP:20260422T105041
CREATED:20221004T212028Z
LAST-MODIFIED:20221004T212028Z
UID:10000144-1657220400-1657220400@townofcopakeny.gov
SUMMARY:Copake Planning Board Meeting Thursday\, July 7\, 2022 7:00pm
DESCRIPTION:
URL:https://townofcopakeny.gov/event/copake-planning-board-meeting-thursday-july-7-2022-700pm/
LOCATION:Town Hall\, 230 Mountain View Road\, Copake\, NY\, 12516\, United States
CATEGORIES:Town Meetings
END:VEVENT
BEGIN:VEVENT
DTSTART;TZID=America/New_York:20220705T160000
DTEND;TZID=America/New_York:20220705T160000
DTSTAMP:20260422T105041
CREATED:20221004T211920Z
LAST-MODIFIED:20221004T211920Z
UID:10000143-1657036800-1657036800@townofcopakeny.gov
SUMMARY:Town Board Special Meeting Tuesday\, July 5\, 2022 4:00pm
DESCRIPTION:Special Meeting Town Board Tuesday 070522
URL:https://townofcopakeny.gov/event/town-board-special-meeting-tuesday-july-5-2022-400pm/
LOCATION:Town Hall\, 230 Mountain View Road\, Copake\, NY\, 12516\, United States
CATEGORIES:Town Board
END:VEVENT
BEGIN:VEVENT
DTSTART;TZID=America/New_York:20220705T100000
DTEND;TZID=America/New_York:20220705T120000
DTSTAMP:20260422T105041
CREATED:20221004T222335Z
LAST-MODIFIED:20221004T222335Z
UID:10001253-1657015200-1657022400@townofcopakeny.gov
SUMMARY:Canceled Healthcare Consortium Tuesday\, July 7\, 2022 9:00am-12:00pm
DESCRIPTION:
URL:https://townofcopakeny.gov/event/canceled-healthcare-consortium-tuesday-july-7-2022-900am-1200pm/
LOCATION:Town Hall\, 230 Mountain View Road\, Copake\, NY\, 12516\, United States
CATEGORIES:Community Calendar
END:VEVENT
END:VCALENDAR