BEGIN:VCALENDAR
VERSION:2.0
PRODID:-//Town of Copake - ECPv6.15.17.1//NONSGML v1.0//EN
CALSCALE:GREGORIAN
METHOD:PUBLISH
X-WR-CALNAME:Town of Copake
X-ORIGINAL-URL:https://townofcopakeny.gov
X-WR-CALDESC:Events for Town of Copake
REFRESH-INTERVAL;VALUE=DURATION:PT1H
X-Robots-Tag:noindex
X-PUBLISHED-TTL:PT1H
BEGIN:VTIMEZONE
TZID:America/New_York
BEGIN:DAYLIGHT
TZOFFSETFROM:-0500
TZOFFSETTO:-0400
TZNAME:EDT
DTSTART:20210314T070000
END:DAYLIGHT
BEGIN:STANDARD
TZOFFSETFROM:-0400
TZOFFSETTO:-0500
TZNAME:EST
DTSTART:20211107T060000
END:STANDARD
BEGIN:DAYLIGHT
TZOFFSETFROM:-0500
TZOFFSETTO:-0400
TZNAME:EDT
DTSTART:20220313T070000
END:DAYLIGHT
BEGIN:STANDARD
TZOFFSETFROM:-0400
TZOFFSETTO:-0500
TZNAME:EST
DTSTART:20221106T060000
END:STANDARD
BEGIN:DAYLIGHT
TZOFFSETFROM:-0500
TZOFFSETTO:-0400
TZNAME:EDT
DTSTART:20230312T070000
END:DAYLIGHT
BEGIN:STANDARD
TZOFFSETFROM:-0400
TZOFFSETTO:-0500
TZNAME:EST
DTSTART:20231105T060000
END:STANDARD
END:VTIMEZONE
BEGIN:VEVENT
DTSTART;TZID=America/New_York:20220728T190000
DTEND;TZID=America/New_York:20220728T190000
DTSTAMP:20260422T133533
CREATED:20221004T212706Z
LAST-MODIFIED:20221004T212706Z
UID:10000005-1659034800-1659034800@townofcopakeny.gov
SUMMARY:ZBA Meeting Thursday\, July 28\, 2022 7:00pm
DESCRIPTION:
URL:https://townofcopakeny.gov/event/zba-meeting-thursday-july-28-2022-700pm/
LOCATION:Town Hall\, 230 Mountain View Road\, Copake\, NY\, 12516\, United States
CATEGORIES:Zoning Board
END:VEVENT
BEGIN:VEVENT
DTSTART;TZID=America/New_York:20220720T170000
DTEND;TZID=America/New_York:20220720T170000
DTSTAMP:20260422T133533
CREATED:20221004T212621Z
LAST-MODIFIED:20221004T212621Z
UID:10000004-1658336400-1658336400@townofcopakeny.gov
SUMMARY:RAC Meeting Wednesday\, July 20\, 2022 5:00pm
DESCRIPTION:
URL:https://townofcopakeny.gov/event/rac-meeting-wednesday-july-20-2022-500pm/
LOCATION:Town Hall\, 230 Mountain View Road\, Copake\, NY\, 12516\, United States
CATEGORIES:Town Meetings
END:VEVENT
BEGIN:VEVENT
DTSTART;TZID=America/New_York:20220718T100000
DTEND;TZID=America/New_York:20220718T100000
DTSTAMP:20260422T133533
CREATED:20221004T212543Z
LAST-MODIFIED:20221004T212543Z
UID:10000003-1658138400-1658138400@townofcopakeny.gov
SUMMARY:HPC Meeting Monday\, July 18\, 2022 10:00am
DESCRIPTION:
URL:https://townofcopakeny.gov/event/hpc-meeting-monday-july-18-2022-1000am/
LOCATION:Town Hall\, 230 Mountain View Road\, Copake\, NY\, 12516\, United States
CATEGORIES:Town Meetings
END:VEVENT
BEGIN:VEVENT
DTSTART;TZID=America/New_York:20220707T190000
DTEND;TZID=America/New_York:20220707T190000
DTSTAMP:20260422T133533
CREATED:20221004T212028Z
LAST-MODIFIED:20221004T212028Z
UID:10000144-1657220400-1657220400@townofcopakeny.gov
SUMMARY:Copake Planning Board Meeting Thursday\, July 7\, 2022 7:00pm
DESCRIPTION:
URL:https://townofcopakeny.gov/event/copake-planning-board-meeting-thursday-july-7-2022-700pm/
LOCATION:Town Hall\, 230 Mountain View Road\, Copake\, NY\, 12516\, United States
CATEGORIES:Town Meetings
END:VEVENT
BEGIN:VEVENT
DTSTART;TZID=America/New_York:20220705T160000
DTEND;TZID=America/New_York:20220705T160000
DTSTAMP:20260422T133533
CREATED:20221004T211920Z
LAST-MODIFIED:20221004T211920Z
UID:10000143-1657036800-1657036800@townofcopakeny.gov
SUMMARY:Town Board Special Meeting Tuesday\, July 5\, 2022 4:00pm
DESCRIPTION:Special Meeting Town Board Tuesday 070522
URL:https://townofcopakeny.gov/event/town-board-special-meeting-tuesday-july-5-2022-400pm/
LOCATION:Town Hall\, 230 Mountain View Road\, Copake\, NY\, 12516\, United States
CATEGORIES:Town Board
END:VEVENT
BEGIN:VEVENT
DTSTART;TZID=America/New_York:20220705T100000
DTEND;TZID=America/New_York:20220705T120000
DTSTAMP:20260422T133533
CREATED:20221004T222335Z
LAST-MODIFIED:20221004T222335Z
UID:10001253-1657015200-1657022400@townofcopakeny.gov
SUMMARY:Canceled Healthcare Consortium Tuesday\, July 7\, 2022 9:00am-12:00pm
DESCRIPTION:
URL:https://townofcopakeny.gov/event/canceled-healthcare-consortium-tuesday-july-7-2022-900am-1200pm/
LOCATION:Town Hall\, 230 Mountain View Road\, Copake\, NY\, 12516\, United States
CATEGORIES:Community Calendar
END:VEVENT
BEGIN:VEVENT
DTSTART;TZID=America/New_York:20220623T190000
DTEND;TZID=America/New_York:20220623T190000
DTSTAMP:20260422T133533
CREATED:20221004T211745Z
LAST-MODIFIED:20221004T211745Z
UID:10000142-1656010800-1656010800@townofcopakeny.gov
SUMMARY:ZBA Meeting Thursday\, June 23\, 2022 7:00pm
DESCRIPTION:
URL:https://townofcopakeny.gov/event/zba-meeting-thursday-june-23-2022-700pm/
LOCATION:Town Hall\, 230 Mountain View Road\, Copake\, NY\, 12516\, United States
CATEGORIES:Zoning Board
END:VEVENT
BEGIN:VEVENT
DTSTART;TZID=America/New_York:20220623T140000
DTEND;TZID=America/New_York:20220623T140000
DTSTAMP:20260422T133533
CREATED:20221004T211603Z
LAST-MODIFIED:20221004T211648Z
UID:10000141-1655992800-1655992800@townofcopakeny.gov
SUMMARY:Town Board Special Meeting Thursday\, June 23\, 2022 2:00pm
DESCRIPTION:Special Meeting Town Board Thursday
URL:https://townofcopakeny.gov/event/town-board-special-meeting-thursday-june-23-2022-200pm/
LOCATION:Town Hall\, 230 Mountain View Road\, Copake\, NY\, 12516\, United States
CATEGORIES:Town Board
END:VEVENT
BEGIN:VEVENT
DTSTART;TZID=America/New_York:20220616T173000
DTEND;TZID=America/New_York:20220616T173000
DTSTAMP:20260422T133533
CREATED:20221004T211436Z
LAST-MODIFIED:20221004T211436Z
UID:10000140-1655400600-1655400600@townofcopakeny.gov
SUMMARY:RAC Meeting Thursday\, June 16\, 2022 5:30pm
DESCRIPTION:
URL:https://townofcopakeny.gov/event/rac-meeting-thursday-june-16-2022-530pm/
LOCATION:Town Hall\, 230 Mountain View Road\, Copake\, NY\, 12516\, United States
CATEGORIES:Town Meetings
END:VEVENT
BEGIN:VEVENT
DTSTART;TZID=America/New_York:20220613T100000
DTEND;TZID=America/New_York:20220613T100000
DTSTAMP:20260422T133533
CREATED:20221004T211216Z
LAST-MODIFIED:20221004T211216Z
UID:10000139-1655114400-1655114400@townofcopakeny.gov
SUMMARY:Postponed Historic Preservation Meeting Monday\, June 13\, 2022 10:00am
DESCRIPTION:
URL:https://townofcopakeny.gov/event/postponed-historic-preservation-meeting-monday-june-13-2022-1000am/
LOCATION:Town Hall\, 230 Mountain View Road\, Copake\, NY\, 12516\, United States
CATEGORIES:Conservation Advisory Committee
END:VEVENT
BEGIN:VEVENT
DTSTART;TZID=America/New_York:20220611T210000
DTEND;TZID=America/New_York:20220611T210000
DTSTAMP:20260422T133533
CREATED:20221004T222255Z
LAST-MODIFIED:20221004T222255Z
UID:10001252-1654981200-1654981200@townofcopakeny.gov
SUMMARY:Roe Jan Ramble Bike Tour Meeting
DESCRIPTION:
URL:https://townofcopakeny.gov/event/roe-jan-ramble-bike-tour-meeting/
LOCATION:Town Hall\, 230 Mountain View Road\, Copake\, NY\, 12516\, United States
CATEGORIES:Community Calendar
END:VEVENT
BEGIN:VEVENT
DTSTART;TZID=America/New_York:20220609T190000
DTEND;TZID=America/New_York:20220609T190000
DTSTAMP:20260422T133533
CREATED:20221004T211120Z
LAST-MODIFIED:20221004T211120Z
UID:10000138-1654801200-1654801200@townofcopakeny.gov
SUMMARY:Owl Town Board Meeting Thursday\, June 9\, 2022 7:00pm
DESCRIPTION:Owl Town Board Meeting Thursday 060922
URL:https://townofcopakeny.gov/event/owl-town-board-meeting-thursday-june-9-2022-700pm/
LOCATION:Town Hall\, 230 Mountain View Road\, Copake\, NY\, 12516\, United States
CATEGORIES:Town Meetings
END:VEVENT
BEGIN:VEVENT
DTSTART;TZID=America/New_York:20220602T190000
DTEND;TZID=America/New_York:20220602T190000
DTSTAMP:20260422T133533
CREATED:20221004T210922Z
LAST-MODIFIED:20221004T210922Z
UID:10000137-1654196400-1654196400@townofcopakeny.gov
SUMMARY:Copake Planning Board Meeting Thursday\, June 2\, 2022
DESCRIPTION:
URL:https://townofcopakeny.gov/event/copake-planning-board-meeting-thursday-june-2-2022/
LOCATION:Town Hall\, 230 Mountain View Road\, Copake\, NY\, 12516\, United States
CATEGORIES:Planning Board
END:VEVENT
BEGIN:VEVENT
DTSTART;TZID=America/New_York:20220531T153000
DTEND;TZID=America/New_York:20220531T153000
DTSTAMP:20260422T133533
CREATED:20221004T210434Z
LAST-MODIFIED:20221004T210434Z
UID:10000135-1654011000-1654011000@townofcopakeny.gov
SUMMARY:OWL Special Meeting Town Board followed by Workshop Tuesday\, May 31\, 2022 3:30pm
DESCRIPTION:Town Owl Town Board Special Meeting 053122
URL:https://townofcopakeny.gov/event/owl-special-meeting-town-board-followed-by-workshop-tuesday-may-31-2022-330pm/
LOCATION:Town Hall\, 230 Mountain View Road\, Copake\, NY\, 12516\, United States
CATEGORIES:Town Board
END:VEVENT
BEGIN:VEVENT
DTSTART;TZID=America/New_York:20220526T190000
DTEND;TZID=America/New_York:20220526T190000
DTSTAMP:20260422T133533
CREATED:20221004T210245Z
LAST-MODIFIED:20221004T210245Z
UID:10000134-1653591600-1653591600@townofcopakeny.gov
SUMMARY:ZBA Meeting Thursday\, May 26\, 2022 7:00pm
DESCRIPTION:
URL:https://townofcopakeny.gov/event/zba-meeting-thursday-may-26-2022-700pm/
LOCATION:Town Hall\, 230 Mountain View Road\, Copake\, NY\, 12516\, United States
CATEGORIES:Zoning Board
END:VEVENT
BEGIN:VEVENT
DTSTART;TZID=America/New_York:20220525T160000
DTEND;TZID=America/New_York:20220525T200000
DTSTAMP:20260422T133533
CREATED:20221004T210211Z
LAST-MODIFIED:20221004T210211Z
UID:10000133-1653494400-1653508800@townofcopakeny.gov
SUMMARY:Grievance Day Wednesday\, May 25\, 2022 4:00pm-8:00pm
DESCRIPTION:
URL:https://townofcopakeny.gov/event/grievance-day-wednesday-may-25-2022-400pm-800pm/
LOCATION:Town Hall\, 230 Mountain View Road\, Copake\, NY\, 12516\, United States
CATEGORIES:Town Meetings
END:VEVENT
BEGIN:VEVENT
DTSTART;TZID=America/New_York:20220516T100000
DTEND;TZID=America/New_York:20220516T100000
DTSTAMP:20260422T133533
CREATED:20221004T210130Z
LAST-MODIFIED:20221004T210130Z
UID:10000132-1652695200-1652695200@townofcopakeny.gov
SUMMARY:HPC Meeting Monday\, May 16\, 2022 10:00am
DESCRIPTION:
URL:https://townofcopakeny.gov/event/hpc-meeting-monday-may-16-2022-1000am/
LOCATION:Town Hall\, 230 Mountain View Road\, Copake\, NY\, 12516\, United States
CATEGORIES:Conservation Advisory Committee
END:VEVENT
BEGIN:VEVENT
DTSTART;TZID=America/New_York:20220512T190000
DTEND;TZID=America/New_York:20220512T190000
DTSTAMP:20260422T133533
CREATED:20221004T210027Z
LAST-MODIFIED:20221004T210027Z
UID:10000131-1652382000-1652382000@townofcopakeny.gov
SUMMARY:OWL Town Board Meeting Thursday\, May 12\, 2022 7:00pm
DESCRIPTION:Owl Town Board Meeting 051222 2
URL:https://townofcopakeny.gov/event/owl-town-board-meeting-thursday-may-12-2022-700pm/
LOCATION:Town Hall\, 230 Mountain View Road\, Copake\, NY\, 12516\, United States
CATEGORIES:Town Board
END:VEVENT
BEGIN:VEVENT
DTSTART;TZID=America/New_York:20220505T170000
DTEND;TZID=America/New_York:20220505T170000
DTSTAMP:20260422T133533
CREATED:20221004T205854Z
LAST-MODIFIED:20221004T205854Z
UID:10000129-1651770000-1651770000@townofcopakeny.gov
SUMMARY:Copake Planning Board Meeting Thursday\, May 5\, 2022
DESCRIPTION:
URL:https://townofcopakeny.gov/event/copake-planning-board-meeting-thursday-may-5-2022/
LOCATION:Town Hall\, 230 Mountain View Road\, Copake\, NY\, 12516\, United States
CATEGORIES:Planning Board
END:VEVENT
BEGIN:VEVENT
DTSTART;TZID=America/New_York:20220503T090000
DTEND;TZID=America/New_York:20220503T120000
DTSTAMP:20260422T133533
CREATED:20221004T221908Z
LAST-MODIFIED:20221004T221908Z
UID:10000163-1651568400-1651579200@townofcopakeny.gov
SUMMARY:Healthcare Consortium Tuesday\, May 3\, 2022 9:00am-12:00pm
DESCRIPTION:
URL:https://townofcopakeny.gov/event/healthcare-consortium-tuesday-may-3-2022-900am-1200pm/2022-05-03/
LOCATION:Town Hall\, 230 Mountain View Road\, Copake\, NY\, 12516\, United States
CATEGORIES:Community Calendar
END:VEVENT
BEGIN:VEVENT
DTSTART;TZID=America/New_York:20220430T090000
DTEND;TZID=America/New_York:20220430T090000
DTSTAMP:20260422T133533
CREATED:20221004T221632Z
LAST-MODIFIED:20221004T221632Z
UID:10000161-1651309200-1651309200@townofcopakeny.gov
SUMMARY:Roe Jan Ramble Meeting Saturday\, April 30\, 2022 9:00am
DESCRIPTION:
URL:https://townofcopakeny.gov/event/roe-jan-ramble-meeting-saturday-april-30-2022-900am/
LOCATION:Town Hall\, 230 Mountain View Road\, Copake\, NY\, 12516\, United States
CATEGORIES:Community Calendar
END:VEVENT
BEGIN:VEVENT
DTSTART;TZID=America/New_York:20220428T190000
DTEND;TZID=America/New_York:20220428T190000
DTSTAMP:20260422T133533
CREATED:20221004T204953Z
LAST-MODIFIED:20221004T204953Z
UID:10000128-1651172400-1651172400@townofcopakeny.gov
SUMMARY:ZBA Meeting Thursday\, April 28\, 2022 7:00pm
DESCRIPTION:
URL:https://townofcopakeny.gov/event/zba-meeting-thursday-april-28-2022-700pm/
LOCATION:Town Hall\, 230 Mountain View Road\, Copake\, NY\, 12516\, United States
CATEGORIES:Zoning Board
END:VEVENT
BEGIN:VEVENT
DTSTART;TZID=America/New_York:20220421T173000
DTEND;TZID=America/New_York:20220421T173000
DTSTAMP:20260422T133533
CREATED:20221004T204904Z
LAST-MODIFIED:20221004T204904Z
UID:10000127-1650562200-1650562200@townofcopakeny.gov
SUMMARY:RAC Meeting Thursday\, April 21\, 2022 5:30pm
DESCRIPTION:
URL:https://townofcopakeny.gov/event/rac-meeting-thursday-april-21-2022-530pm/
LOCATION:Town Hall\, 230 Mountain View Road\, Copake\, NY\, 12516\, United States
CATEGORIES:Town Meetings
END:VEVENT
BEGIN:VEVENT
DTSTART;TZID=America/New_York:20220418T100000
DTEND;TZID=America/New_York:20220418T100000
DTSTAMP:20260422T133533
CREATED:20221004T204826Z
LAST-MODIFIED:20221004T204826Z
UID:10000126-1650276000-1650276000@townofcopakeny.gov
SUMMARY:Historic Preservation Meeting\, Monday\, April 18\, 2022 10:00 am
DESCRIPTION:Zoom-Meeting-Information
URL:https://townofcopakeny.gov/event/historic-preservation-meeting-monday-april-18-2022-1000-am/
LOCATION:Town Hall\, 230 Mountain View Road\, Copake\, NY\, 12516\, United States
CATEGORIES:Town Meetings
END:VEVENT
BEGIN:VEVENT
DTSTART;TZID=America/New_York:20220414T190000
DTEND;TZID=America/New_York:20220414T190000
DTSTAMP:20260422T133533
CREATED:20221004T204729Z
LAST-MODIFIED:20221004T204729Z
UID:10000125-1649962800-1649962800@townofcopakeny.gov
SUMMARY:OWL Town Board Meeting Thursday\, April 14\, 2022 7:00pm
DESCRIPTION:WHERE: Town Hall/OWL \nOWL Town Board Meeting Thursday 041422
URL:https://townofcopakeny.gov/event/owl-town-board-meeting-thursday-april-14-2022-700pm/
LOCATION:Town Hall\, 230 Mountain View Road\, Copake\, NY\, 12516\, United States
CATEGORIES:Town Board
END:VEVENT
BEGIN:VEVENT
DTSTART;TZID=America/New_York:20220407T190000
DTEND;TZID=America/New_York:20220407T190000
DTSTAMP:20260422T133533
CREATED:20221004T204542Z
LAST-MODIFIED:20221004T204542Z
UID:10000123-1649358000-1649358000@townofcopakeny.gov
SUMMARY:Public Hearing Copake Planning Board Thursday\, April 7\, 2022 7:00pm
DESCRIPTION:
URL:https://townofcopakeny.gov/event/public-hearing-copake-planning-board-thursday-april-7-2022-700pm/
LOCATION:Town Hall\, 230 Mountain View Road\, Copake\, NY\, 12516\, United States
CATEGORIES:Town Meetings
END:VEVENT
BEGIN:VEVENT
DTSTART;TZID=America/New_York:20220407T190000
DTEND;TZID=America/New_York:20220407T190000
DTSTAMP:20260422T133533
CREATED:20221004T204512Z
LAST-MODIFIED:20221004T204512Z
UID:10000122-1649358000-1649358000@townofcopakeny.gov
SUMMARY:Copake Planning Board Meeting Thursday\, April 7\, 2022 7:00pm
DESCRIPTION:
URL:https://townofcopakeny.gov/event/copake-planning-board-meeting-thursday-april-7-2022-700pm/
LOCATION:Town Hall\, 230 Mountain View Road\, Copake\, NY\, 12516\, United States
CATEGORIES:Town Meetings
END:VEVENT
BEGIN:VEVENT
DTSTART;TZID=America/New_York:20220405T083000
DTEND;TZID=America/New_York:20220405T103000
DTSTAMP:20260422T133533
CREATED:20221004T221354Z
LAST-MODIFIED:20221004T221354Z
UID:10000020-1649147400-1649154600@townofcopakeny.gov
SUMMARY:Heathcare Consortium Tuesday\, April 5\, 2022 8:30am-10:30am
DESCRIPTION:
URL:https://townofcopakeny.gov/event/heathcare-consortium-tuesday-april-5-2022-830am-1030am/
LOCATION:Town Hall\, 230 Mountain View Road\, Copake\, NY\, 12516\, United States
CATEGORIES:Community Calendar
END:VEVENT
BEGIN:VEVENT
DTSTART;TZID=America/New_York:20220324T190000
DTEND;TZID=America/New_York:20220324T190000
DTSTAMP:20260422T133533
CREATED:20221004T204224Z
LAST-MODIFIED:20221004T204224Z
UID:10000119-1648148400-1648148400@townofcopakeny.gov
SUMMARY:ZBA Meeting Thursday\, March 24\, 2022 7:00pm
DESCRIPTION:
URL:https://townofcopakeny.gov/event/zba-meeting-thursday-march-24-2022-700pm/
LOCATION:Town Hall\, 230 Mountain View Road\, Copake\, NY\, 12516\, United States
CATEGORIES:Zoning Board
END:VEVENT
BEGIN:VEVENT
DTSTART;TZID=America/New_York:20220321T100000
DTEND;TZID=America/New_York:20220321T100000
DTSTAMP:20260422T133533
CREATED:20221004T203930Z
LAST-MODIFIED:20221004T203930Z
UID:10000116-1647856800-1647856800@townofcopakeny.gov
SUMMARY:Historic Preservation Committee
DESCRIPTION:
URL:https://townofcopakeny.gov/event/historic-preservation-committee/
LOCATION:Town Hall\, 230 Mountain View Road\, Copake\, NY\, 12516\, United States
CATEGORIES:Town Meetings
END:VEVENT
END:VCALENDAR